BEGIN:VCALENDAR
VERSION:2.0
PRODID:-//Hustler&#039;s Library - ECPv6.15.20//NONSGML v1.0//EN
CALSCALE:GREGORIAN
METHOD:PUBLISH
X-WR-CALNAME:Hustler&#039;s Library
X-ORIGINAL-URL:https://hustlerslibrary.com
X-WR-CALDESC:Events for Hustler&#039;s Library
REFRESH-INTERVAL;VALUE=DURATION:PT1H
X-Robots-Tag:noindex
X-PUBLISHED-TTL:PT1H
BEGIN:VTIMEZONE
TZID:America/Los_Angeles
BEGIN:DAYLIGHT
TZOFFSETFROM:-0800
TZOFFSETTO:-0700
TZNAME:PDT
DTSTART:20250309T100000
END:DAYLIGHT
BEGIN:STANDARD
TZOFFSETFROM:-0700
TZOFFSETTO:-0800
TZNAME:PST
DTSTART:20251102T090000
END:STANDARD
BEGIN:DAYLIGHT
TZOFFSETFROM:-0800
TZOFFSETTO:-0700
TZNAME:PDT
DTSTART:20260308T100000
END:DAYLIGHT
BEGIN:STANDARD
TZOFFSETFROM:-0700
TZOFFSETTO:-0800
TZNAME:PST
DTSTART:20261101T090000
END:STANDARD
BEGIN:DAYLIGHT
TZOFFSETFROM:-0800
TZOFFSETTO:-0700
TZNAME:PDT
DTSTART:20270314T100000
END:DAYLIGHT
BEGIN:STANDARD
TZOFFSETFROM:-0700
TZOFFSETTO:-0800
TZNAME:PST
DTSTART:20271107T090000
END:STANDARD
END:VTIMEZONE
BEGIN:VEVENT
DTSTART;VALUE=DATE:20260304
DTEND;VALUE=DATE:20260307
DTSTAMP:20260424T044521
CREATED:20251228T161256Z
LAST-MODIFIED:20251228T163421Z
UID:20581-1772582400-1772841599@hustlerslibrary.com
SUMMARY:East China Fair 2026
DESCRIPTION:Official Hustler’s Library Review \nLocation: ShanghaiVenue: Shanghai New International Expo CentreDates: March 1–4\, 2026Scale: 115\,000+ sqm · 5\,200+ booths · ~4\,000 exhibitorsFocus: Import & Export · Manufacturing · Cross-Border Trade \nThe East China Fair (ECF) is one of the most established and authoritative B2B trade fairs in Asia\, and the 34th East China Fair 2026 reaffirms its role as a critical gateway between Chinese manufacturing and global buyers. \nFounded in 1991 and co-sponsored by multiple provincial commerce authorities\, ECF is not a speculative expo—it is a deal-driven trade environment where contracts are signed\, supply chains are formed\, and long-term sourcing relationships are built. \nFor operators focused on manufacturing\, private label\, wholesale\, and cross-border e-commerce\, ECF remains one of the most important regional trade fairs in the world. \nWhy the East China Fair Matters in 2026\nWhile many global conferences emphasize ideas\, ECF emphasizes execution. \nIn 2026\, the East China Fair stands out for: \n\nDirect access to verified manufacturers and exporters\nGovernment-supported credibility and scale\nHigh concentration of decision-makers\, not spectators\nA proven track record of on-site deal flow\n\nAs global supply chains continue to rebalance\, ECF offers buyers and operators a front-row seat to real production capacity across China and neighboring export markets. \nCore Exhibition Categories\nThe 34th East China Fair features four professional exhibitions and two dedicated exhibition areas\, including: \nProfessional Exhibitions\n\nGarments\nTextiles\nHome Products\nGifts & Consumer Goods\n\nExhibition Areas\n\nOverseas Products\nCross-Border E-Commerce\n\nThis structure allows buyers to move efficiently from raw sourcing to finished goods\, while also evaluating cross-border fulfillment\, logistics\, and e-commerce-ready suppliers. \nInternational Participation & Buyer Profile\nECF 2026 attracts overseas exhibitors and buyers from Japan\, South Korea\, the United Kingdom\, France\, Germany\, Lithuania\, Vietnam\, Thailand\, Malaysia\, Nepal\, and other global trade markets. \nNotable buyers and sourcing groups represented historically include: \n\nLarge retail chains\nTrading companies\nImport/export groups\nWholesale distributors\nCross-border e-commerce operators\n\nThis makes ECF especially valuable for: \n\nU.S. and European buyers sourcing at scale\nBrands exploring private-label manufacturing\nOperators expanding into Asia-based supply chains\n\nGovernment-Backed Credibility & Deal Flow\nOne of ECF’s defining strengths is its government sponsorship and oversight\, which provides a level of reliability not always present in private trade shows. \nThis translates into: \n\nHigher-quality exhibitors\nFewer speculative booths\nGreater confidence in supplier legitimacy\nStronger on-site negotiation culture\n\nECF is designed for professionals who expect measurable ROI\, not brand theater. \nHustler’s Library at the East China Fair 2026\nHustler’s Library will be officially attending the 34th East China Fair as part of our global trade\, sourcing\, and business events coverage. \nAs a business media platform focused on real operators\, deal flow\, and infrastructure\, ECF aligns directly with our mission to surface the environments where global commerce actually happens. \nThe Hustler’s Library Private ECF Buyer & Operator Mixer\nShanghai | By Invitation \nDuring East China Fair 2026\, Hustler’s Library will host a private buyer & operator mixer in Shanghai for selected founders\, sourcing professionals\, distributors\, and partners. \nThis is a closed-door\, relationship-first gathering\, designed for: \n\nBuyers sourcing manufacturing partners\nOperators building long-term supply chains\nFounders exploring private-label and OEM strategies\nInternational partners operating across China\, Europe\, and the U.S.\n\n📩 To receive invitation details and location information\, contact Hustler’s Library directly through our contact page. \nAttendance is limited to ensure quality conversations and aligned interests. \nFinal Thoughts\nThe 34th East China Fair 2026 is not about trends—it is about trade execution at scale. \nFor operators involved in manufacturing\, sourcing\, wholesale\, or cross-border commerce\, ECF remains one of the most efficient and high-signal trade fairs in Asia. \nPaired with Hustler’s Library’s private mixer and upcoming networking guide\, ECF becomes more than a trade show—it becomes a strategic access point into global supply chains. \nHustler’s Library will continue covering and attending the world’s most important business and trade events—where deals are made\, not just discussed.
URL:https://hustlerslibrary.com/event/east-china-fair-2026/
LOCATION:Shanghai New International Expo Center\, 龙阳路2345号 邮政编码\, Shanghai\, 201204\, China
CATEGORIES:Shanghai
ATTACH;FMTTYPE=image/jpeg:https://hustlerslibrary.com/wp-content/uploads/2025/12/unnamed-2.jpeg
END:VEVENT
END:VCALENDAR