BEGIN:VCALENDAR
VERSION:2.0
PRODID:-//Hustler&#039;s Library - ECPv6.15.20//NONSGML v1.0//EN
CALSCALE:GREGORIAN
METHOD:PUBLISH
X-ORIGINAL-URL:https://hustlerslibrary.com
X-WR-CALDESC:Events for Hustler&#039;s Library
REFRESH-INTERVAL;VALUE=DURATION:PT1H
X-Robots-Tag:noindex
X-PUBLISHED-TTL:PT1H
BEGIN:VTIMEZONE
TZID:America/Los_Angeles
BEGIN:DAYLIGHT
TZOFFSETFROM:-0800
TZOFFSETTO:-0700
TZNAME:PDT
DTSTART:20240310T100000
END:DAYLIGHT
BEGIN:STANDARD
TZOFFSETFROM:-0700
TZOFFSETTO:-0800
TZNAME:PST
DTSTART:20241103T090000
END:STANDARD
BEGIN:DAYLIGHT
TZOFFSETFROM:-0800
TZOFFSETTO:-0700
TZNAME:PDT
DTSTART:20250309T100000
END:DAYLIGHT
BEGIN:STANDARD
TZOFFSETFROM:-0700
TZOFFSETTO:-0800
TZNAME:PST
DTSTART:20251102T090000
END:STANDARD
BEGIN:DAYLIGHT
TZOFFSETFROM:-0800
TZOFFSETTO:-0700
TZNAME:PDT
DTSTART:20260308T100000
END:DAYLIGHT
BEGIN:STANDARD
TZOFFSETFROM:-0700
TZOFFSETTO:-0800
TZNAME:PST
DTSTART:20261101T090000
END:STANDARD
END:VTIMEZONE
BEGIN:VEVENT
DTSTART;VALUE=DATE:20250212
DTEND;VALUE=DATE:20250213
DTSTAMP:20260423T092849
CREATED:20240728T150404Z
LAST-MODIFIED:20240728T150404Z
UID:13662-1739318400-1739404799@hustlerslibrary.com
SUMMARY:Conference for Women - San Jose California
DESCRIPTION:Hustler’s Library Preview The 2024 California Conference for Women: Get ready\, leaders and professionals\, because The 2025 California Conference for Women is approaching! Join us on Wednesday\, February 12th\, 2025\, at the San Jose Convention Center in San Jose\, California\, for a day dedicated to empowerment\, inspiration\, and connection. \nNetworking Opportunities: The California Conference for Women is the ideal venue for networking with fellow professionals\, industry leaders\, and inspiring women from various fields. With thousands of attendees\, this event provides ample opportunities to build valuable connections\, exchange ideas\, and explore potential collaborations. Meet like-minded individuals who share your passion for leadership\, growth\, and empowerment. \nKnowledge is Power: Enhance your career and personal development with a diverse lineup of workshops\, breakout sessions\, and panel discussions. Learn from top experts and thought leaders who will share their insights\, strategies\, and experiences on topics ranging from leadership and career advancement to wellness and personal growth. These sessions are designed to provide practical knowledge and actionable takeaways that you can apply in your life and career. \nExhibits for Days: Explore the exhibitor hall\, where you’ll find a wide range of products\, services\, and resources tailored to support women in their professional and personal lives. From career coaching and professional development tools to health and wellness products\, discover everything you need to thrive and succeed. \nInspirational Keynote Speakers: Be inspired by an exceptional lineup of keynote speakers who are making a significant impact in their fields. These influential women will share their journeys\, challenges\, and successes\, providing you with the motivation and inspiration to pursue your own goals. Past speakers have included renowned figures such as Brené Brown\, best-selling author and research professor\, and Viola Davis\, Academy Award-winning actress\, who have left audiences energized and ready to take on new challenges. \nAttendance Details: The California Conference for Women 2025 offers a variety of passes and registration options to suit your needs. Detailed information on pass types\, costs\, and benefits is available on the official California Conference for Women website. Don’t miss this opportunity to be part of an empowering and transformative event. \n \n\nFinal Thoughts: The 2025 California Conference for Women is more than just a conference—it’s a celebration of women’s achievements\, a platform for learning and growth\, and a community of support and inspiration. Mark your calendars\, prepare your schedules\, and get ready to join us in San Jose for an unforgettable event that will empower you to achieve your dreams. We look forward to seeing you there! \n\n  \n  \n  \n\n 
URL:https://hustlerslibrary.com/event/conference-for-women-san-jose-california/
LOCATION:San Jose McEnery Convention Center\, 150 W San Carlos St\, San Jose\, CA\, 95113\, United States
CATEGORIES:California,San Jose
ATTACH;FMTTYPE=image/png:https://hustlerslibrary.com/wp-content/uploads/2024/07/ca-cfw-reverse-logo-coral.png
END:VEVENT
END:VCALENDAR