BEGIN:VCALENDAR
VERSION:2.0
PRODID:-//Hustler&#039;s Library - ECPv6.15.20//NONSGML v1.0//EN
CALSCALE:GREGORIAN
METHOD:PUBLISH
X-WR-CALNAME:Hustler&#039;s Library
X-ORIGINAL-URL:https://hustlerslibrary.com
X-WR-CALDESC:Events for Hustler&#039;s Library
REFRESH-INTERVAL;VALUE=DURATION:PT1H
X-Robots-Tag:noindex
X-PUBLISHED-TTL:PT1H
BEGIN:VTIMEZONE
TZID:America/Los_Angeles
BEGIN:DAYLIGHT
TZOFFSETFROM:-0800
TZOFFSETTO:-0700
TZNAME:PDT
DTSTART:20250309T100000
END:DAYLIGHT
BEGIN:STANDARD
TZOFFSETFROM:-0700
TZOFFSETTO:-0800
TZNAME:PST
DTSTART:20251102T090000
END:STANDARD
BEGIN:DAYLIGHT
TZOFFSETFROM:-0800
TZOFFSETTO:-0700
TZNAME:PDT
DTSTART:20260308T100000
END:DAYLIGHT
BEGIN:STANDARD
TZOFFSETFROM:-0700
TZOFFSETTO:-0800
TZNAME:PST
DTSTART:20261101T090000
END:STANDARD
BEGIN:DAYLIGHT
TZOFFSETFROM:-0800
TZOFFSETTO:-0700
TZNAME:PDT
DTSTART:20270314T100000
END:DAYLIGHT
BEGIN:STANDARD
TZOFFSETFROM:-0700
TZOFFSETTO:-0800
TZNAME:PST
DTSTART:20271107T090000
END:STANDARD
END:VTIMEZONE
BEGIN:VEVENT
DTSTART;TZID=America/Los_Angeles:20260303T100000
DTEND;TZID=America/Los_Angeles:20260303T170000
DTSTAMP:20260424T032537
CREATED:20251222T043320Z
LAST-MODIFIED:20251228T163337Z
UID:20327-1772532000-1772557200@hustlerslibrary.com
SUMMARY:Small Business Expo - Orlando 2026
DESCRIPTION:Official Hustler’s Library Review \nLocation: Rosen Plaza HotelAddress: 9700 International Drive\, Orlando\, FL 32819Date: March 3\, 2026Time: 10:00 AM – 5:00 PM \nThe Orlando Small Business Expo & Trade Show 2026 stands out as one of the most important business networking events in Orlando for founders\, operators\, and growth-minded professionals heading into the next cycle of U.S. entrepreneurship. \nAs one of the largest and most established trade shows in Central Florida\, this event consistently attracts serious buyers\, credible vendors\, and decision-makers across industries—making it a high-signal environment for entrepreneurs who value execution over hype. \nHustler’s Library recognizes this expo as a strategic touchpoint for founders looking to sharpen their positioning\, expand partnerships\, and stay competitive in an increasingly crowded market. \nWhy This Event Matters for Entrepreneurs in 2026\nBusiness events in 2026 are no longer about collecting business cards—they’re about access\, leverage\, and alignment. The Orlando Small Business Expo delivers on all three. \nFounders attending can expect: \n\nDirect access to vendors and service providers actively selling into SMB markets\nReal-time insight into tools\, platforms\, and services shaping modern operations\nFace-to-face networking with operators who are actively building\, acquiring\, or scaling businesses\nEducational sessions grounded in real-world execution\, not abstract theory\n\nFor entrepreneurs operating in Florida—or expanding into the Southeast—this expo functions as a concentrated snapshot of the SMB economy. \nKeynote Speakers & Thought Leadership\nThe Orlando event features speakers with proven operating credibility\, not just stage presence. \n\nJay Kriner – Known for his Shark Tank success\, Jay brings firsthand experience in product development\, brand execution\, and scaling under pressure. His perspective resonates with founders navigating growth inflection points.\nRajiv Menon – Founder and CEO of Informulate\, Rajiv offers insight at the intersection of technology\, innovation\, and social enterprise—particularly relevant for founders building modern\, tech-enabled businesses.\n\n  \nHustler’s Library Presence at the Orlando Small Business Expo\nHustler’s Library will be officially attending the Orlando Small Business Expo & Trade Show 2026 as part of our national business events coverage and founder engagement initiative. \nAs a business media platform focused on real operators\, real capital\, and real execution\, we prioritize in-person environments where meaningful conversations happen—not just surface-level networking. \nThe Hustler’s Library Private Happy Hour & Founder Mixer\nThe Event to Attend After the Expo\nOne evening during the Orlando Small Business Expo\, Hustler’s Library will be hosting a private happy hour & mixer for entrepreneurs\, operators\, partners\, and invited guests. \nThis is not a generic networking event. \nOur private mixers are designed for: \n\nFounders and operators building or acquiring real businesses\nService providers working with SMBs at scale\nInvestors\, advisors\, and deal-minded professionals\nEntrepreneurs who value quality conversations over crowded rooms\n\nAttendance is curated to ensure high-signal discussions\, meaningful introductions\, and long-term relationship building. \n📩 To receive the location\, time\, and RSVP details\, contact us directly through the Hustler’s Library contact page. Space is limited and invitations are confirmed privately. \nFinal Thoughts\nThe Orlando Small Business Expo & Trade Show 2026 earns its place as a top-tier Orlando business event for founders who are serious about growth\, partnerships\, and positioning heading into the next cycle. \nPaired with Hustler’s Library’s private happy hour mixer\, this event becomes more than a trade show—it becomes a strategic networking opportunity. \nWe’ll continue covering and attending the most important business events across the U.S. in 2026—connecting founders where real momentum is built.
URL:https://hustlerslibrary.com/event/small-business-expo-orlando-2026/
LOCATION:Rosen Plaza Hotel\, 9700 International Dr\, Orlando\, FL\, 32819\, United States
CATEGORIES:Orlando
ATTACH;FMTTYPE=image/png:https://hustlerslibrary.com/wp-content/uploads/2025/12/Screenshot-2025-12-21-at-20.34.06.png
END:VEVENT
END:VCALENDAR