BEGIN:VCALENDAR
VERSION:2.0
PRODID:-//Hustler&#039;s Library - ECPv6.15.20//NONSGML v1.0//EN
CALSCALE:GREGORIAN
METHOD:PUBLISH
X-ORIGINAL-URL:https://hustlerslibrary.com
X-WR-CALDESC:Events for Hustler&#039;s Library
REFRESH-INTERVAL;VALUE=DURATION:PT1H
X-Robots-Tag:noindex
X-PUBLISHED-TTL:PT1H
BEGIN:VTIMEZONE
TZID:America/Los_Angeles
BEGIN:DAYLIGHT
TZOFFSETFROM:-0800
TZOFFSETTO:-0700
TZNAME:PDT
DTSTART:20240310T100000
END:DAYLIGHT
BEGIN:STANDARD
TZOFFSETFROM:-0700
TZOFFSETTO:-0800
TZNAME:PST
DTSTART:20241103T090000
END:STANDARD
BEGIN:DAYLIGHT
TZOFFSETFROM:-0800
TZOFFSETTO:-0700
TZNAME:PDT
DTSTART:20250309T100000
END:DAYLIGHT
BEGIN:STANDARD
TZOFFSETFROM:-0700
TZOFFSETTO:-0800
TZNAME:PST
DTSTART:20251102T090000
END:STANDARD
BEGIN:DAYLIGHT
TZOFFSETFROM:-0800
TZOFFSETTO:-0700
TZNAME:PDT
DTSTART:20260308T100000
END:DAYLIGHT
BEGIN:STANDARD
TZOFFSETFROM:-0700
TZOFFSETTO:-0800
TZNAME:PST
DTSTART:20261101T090000
END:STANDARD
END:VTIMEZONE
BEGIN:VEVENT
DTSTART;TZID=America/Los_Angeles:20250306T100000
DTEND;TZID=America/Los_Angeles:20250306T170000
DTSTAMP:20260423T013304
CREATED:20241204T161707Z
LAST-MODIFIED:20241204T202038Z
UID:15986-1741255200-1741280400@hustlerslibrary.com
SUMMARY:Small Business Expo - Miami 2025
DESCRIPTION:Attention Miami entrepreneurs and small business owners! The Small Business Expo – Miami is happening on Thursday\, March 6th\, 2025\, from 10:00 AM to 5:00 PM at the Miami Airport Convention Center. This one-day event is your opportunity to learn\, network\, and discover resources to help grow your business. \nWhy Attend the Small Business Expo – Miami?\n\nExpert-Led Sessions: Gain actionable insights on marketing\, finance\, and operations from industry professionals who specialize in supporting small businesses.\nNetworking Opportunities: Build connections with fellow entrepreneurs\, local leaders\, and industry experts eager to collaborate and share knowledge.\nTailored Solutions: Explore innovative tools\, products\, and services designed to help small businesses overcome challenges and scale effectively.\n\nEmpowering Miami’s Small Business Community:\nThe Small Business Expo – Miami is dedicated to equipping small business owners with practical advice\, meaningful connections\, and the tools needed to achieve success. Whether you’re launching a startup or growing an established business\, this event has something for everyone. \nSave the Date:\nMark your calendar for March 6th\, 2025\, and join us at the Miami Airport Convention Center. Don’t miss this chance to empower your business and connect with Miami’s entrepreneurial community. Visit the official event website for registration and more details. We look forward to seeing you in Miami!
URL:https://hustlerslibrary.com/event/small-business-expo-miami-2025/
LOCATION:Miami Airport Convention Center\, 711 NW 72nd Ave\, Miami\, FL\, 33126\, United States
CATEGORIES:Miami
ATTACH;FMTTYPE=image/png:https://hustlerslibrary.com/wp-content/uploads/2024/12/unnamed-1-e1749774158391.png
END:VEVENT
END:VCALENDAR