BEGIN:VCALENDAR
VERSION:2.0
PRODID:-//Hustler&#039;s Library - ECPv6.15.20//NONSGML v1.0//EN
CALSCALE:GREGORIAN
METHOD:PUBLISH
X-WR-CALNAME:Hustler&#039;s Library
X-ORIGINAL-URL:https://hustlerslibrary.com
X-WR-CALDESC:Events for Hustler&#039;s Library
REFRESH-INTERVAL;VALUE=DURATION:PT1H
X-Robots-Tag:noindex
X-PUBLISHED-TTL:PT1H
BEGIN:VTIMEZONE
TZID:America/Los_Angeles
BEGIN:DAYLIGHT
TZOFFSETFROM:-0800
TZOFFSETTO:-0700
TZNAME:PDT
DTSTART:20240310T100000
END:DAYLIGHT
BEGIN:STANDARD
TZOFFSETFROM:-0700
TZOFFSETTO:-0800
TZNAME:PST
DTSTART:20241103T090000
END:STANDARD
BEGIN:DAYLIGHT
TZOFFSETFROM:-0800
TZOFFSETTO:-0700
TZNAME:PDT
DTSTART:20250309T100000
END:DAYLIGHT
BEGIN:STANDARD
TZOFFSETFROM:-0700
TZOFFSETTO:-0800
TZNAME:PST
DTSTART:20251102T090000
END:STANDARD
BEGIN:DAYLIGHT
TZOFFSETFROM:-0800
TZOFFSETTO:-0700
TZNAME:PDT
DTSTART:20260308T100000
END:DAYLIGHT
BEGIN:STANDARD
TZOFFSETFROM:-0700
TZOFFSETTO:-0800
TZNAME:PST
DTSTART:20261101T090000
END:STANDARD
END:VTIMEZONE
BEGIN:VEVENT
DTSTART;VALUE=DATE:20250811
DTEND;VALUE=DATE:20250814
DTSTAMP:20260423T220733
CREATED:20250620T151817Z
LAST-MODIFIED:20250620T152621Z
UID:18838-1754870400-1755129599@hustlerslibrary.com
SUMMARY:AI4 2025 - Las Vegas
DESCRIPTION:Ready to lead the future of artificial intelligence with confidence and impact? AI4 2025 offers your premier opportunity. This event unites cross-industry AI leaders. It’s more than a conference; it’s a strategic summit. Here\, you will gain actionable insights into deploying AI responsibly. You will discover scalable AI implementation and innovation across diverse sectors. \nWho Needs This Conference?\nThis high-level event specifically targets: \n\nEnterprise leaders shaping AI strategy.\nStartup founders innovating with AI.\nResearchers pushing AI boundaries.\nPublic sector officials navigating AI policy.\nTechnologists focused on real-world AI deployment.\n\nIf you’re an ambitious hustler invested in advancing AI ethically and effectively\, AI4 2025 provides unparalleled value. \nWhat You’ll Master: Key Highlights\nPrepare for three intensive days packed with strategic discussions and breakthrough insights: \n\nKeynote: “Generative AI Implementation at Scale”: Hear from top experts. Learn how to deploy generative AI across large organizations successfully.\nTrack: “Ethical AI and Governance in the Enterprise”: Engage in vital discussions. Understand how to build fair\, transparent\, and trustworthy AI systems.\nPanel: “AI Agents and Autonomous Systems: Risks & Opportunities”: Explore the cutting edge. Experts discuss the potential and pitfalls of AI agents and self-governing systems.\n\nWhy This Conference is a Game-Changer\nAI4 2025 offers unique advantages for enterprise AI leaders: \n\nIt has an industry-spanning focus. This connects AI innovation with responsible business outcomes across all sectors.\nYou’ll find a practical emphasis on implementation\, not just theory. Gain actionable steps for real-world deployment.\nIt stands as a premier AI conference. It directly addresses ethics\, scale\, and cross-sector collaboration.\n\nYou’ll also benefit from: \n\nActionable insights into deploying AI responsibly across multiple industries. Apply these learnings directly.\nDiscovery of case studies on scalable AI implementation and innovation. Learn from proven successes.\nEngagement in discussions around ethics\, governance\, and AI safety frameworks. Contribute to vital conversations.\nNetworking with top minds in enterprise AI. Connect with CTOs\, data scientists\, and policy makers from leading organizations.\n\nAI4\, a premier platform uniting cross-industry AI leaders\, organizes this conference. Speakers include Fortune 500 executives\, top AI researchers\, public sector leaders\, and startup innovators
URL:https://hustlerslibrary.com/event/ai4-2025-las-vegas/
LOCATION:MGM Grand Las Vegas NV\, 3799 S Las Vegas Blvd\, Las Vegas\, NV\, 89109\, United States
CATEGORIES:Las Vegas Nevada
ATTACH;FMTTYPE=image/jpeg:https://hustlerslibrary.com/wp-content/uploads/2025/06/baaaa-8.jpg
END:VEVENT
END:VCALENDAR