BEGIN:VCALENDAR
VERSION:2.0
PRODID:-//Hustler&#039;s Library - ECPv6.15.20//NONSGML v1.0//EN
CALSCALE:GREGORIAN
METHOD:PUBLISH
X-WR-CALNAME:Hustler&#039;s Library
X-ORIGINAL-URL:https://hustlerslibrary.com
X-WR-CALDESC:Events for Hustler&#039;s Library
REFRESH-INTERVAL;VALUE=DURATION:PT1H
X-Robots-Tag:noindex
X-PUBLISHED-TTL:PT1H
BEGIN:VTIMEZONE
TZID:America/Los_Angeles
BEGIN:DAYLIGHT
TZOFFSETFROM:-0800
TZOFFSETTO:-0700
TZNAME:PDT
DTSTART:20240310T100000
END:DAYLIGHT
BEGIN:STANDARD
TZOFFSETFROM:-0700
TZOFFSETTO:-0800
TZNAME:PST
DTSTART:20241103T090000
END:STANDARD
BEGIN:DAYLIGHT
TZOFFSETFROM:-0800
TZOFFSETTO:-0700
TZNAME:PDT
DTSTART:20250309T100000
END:DAYLIGHT
BEGIN:STANDARD
TZOFFSETFROM:-0700
TZOFFSETTO:-0800
TZNAME:PST
DTSTART:20251102T090000
END:STANDARD
BEGIN:DAYLIGHT
TZOFFSETFROM:-0800
TZOFFSETTO:-0700
TZNAME:PDT
DTSTART:20260308T100000
END:DAYLIGHT
BEGIN:STANDARD
TZOFFSETFROM:-0700
TZOFFSETTO:-0800
TZNAME:PST
DTSTART:20261101T090000
END:STANDARD
END:VTIMEZONE
BEGIN:VEVENT
DTSTART;VALUE=DATE:20250802
DTEND;VALUE=DATE:20250808
DTSTAMP:20260423T215808
CREATED:20250620T143653Z
LAST-MODIFIED:20250620T150513Z
UID:18834-1754092800-1754611199@hustlerslibrary.com
SUMMARY:Black Hat USA 2025 - Las Vegas
DESCRIPTION:Ready to confront the cyber threats of tomorrow and fortify your defenses? Black Hat USA 2025 stands as the world’s most respected platform for security research and real-world threat intelligence. This isn’t just a conference; it’s a deep dive into advanced cybersecurity. Here\, you’ll engage with top researchers\, white-hat hackers\, and CISOs. Discover cutting-edge offensive and defensive security practices across multiple disciplines. \nWho Needs This Conference?\nThis elite event specifically targets: \n\nCybersecurity professionals sharpening their expertise.\nOffensive and defensive security experts pushing boundaries.\nDevelopers focused on secure coding.\nIT teams managing complex infrastructures.\nSMBs and startups mitigating cyber risk.\nBusiness leaders needing to understand the latest threats.\n\nIf you’re an ambitious hustler dedicated to mastering cyber risk\, Black Hat USA 2025 offers unparalleled value. \nWhat You’ll Master: Key Highlights\nPrepare for an intensive week packed with expert-led training and groundbreaking briefings: \n\nTechnical Trainings: “Hands-On Reverse Engineering and Malware Analysis”: Participate in immersive courses. World-renowned experts teach these skills.\nBriefings: “Emerging Threat Vectors in AI and IoT”: Hear about the latest vulnerabilities. Experts discuss new attack methods in rapidly evolving areas.\nBusiness Hall: “Live Demos of Next-Gen Security Products”: Explore an expansive exhibition. Vendors showcase cutting-edge tools and technologies.\n\nWhy This Conference is a Game-Changer\nBlack Hat USA 2025 offers unique advantages for serious security professionals: \n\nIt provides one of the world’s most respected platforms for security research. Get real-world threat intelligence directly.\nBenefit from a dual focus. This includes deep technical knowledge alongside strategic enterprise risk management.\nGain access to exclusive tools\, zero-day research\, and advanced security frameworks. Stay ahead of adversaries.\n\nYou’ll also benefit from: \n\nParticipating in intensive technical trainings. These are led by world-renowned security experts.\nAttending briefings on the latest cybersecurity vulnerabilities and defenses.\nExploring new tools and technologies in the expansive Business Hall. Find solutions for your challenges.\nNetworking with top security professionals and vendors from around the globe. Build invaluable industry connections.\n\nBlack Hat\, a globally recognized organization for advanced cybersecurity training\, hosts this event. Expect to learn from top researchers\, white-hat hackers\, and CISOs from Fortune 500 companies.
URL:https://hustlerslibrary.com/event/black-hat-usa-2025-las-vegas/
CATEGORIES:Las Vegas Nevada
ATTACH;FMTTYPE=image/jpeg:https://hustlerslibrary.com/wp-content/uploads/2025/06/baaaa-7.jpg
END:VEVENT
END:VCALENDAR