BEGIN:VCALENDAR
VERSION:2.0
PRODID:-//Hustler&#039;s Library - ECPv6.15.20//NONSGML v1.0//EN
CALSCALE:GREGORIAN
METHOD:PUBLISH
X-ORIGINAL-URL:https://hustlerslibrary.com
X-WR-CALDESC:Events for Hustler&#039;s Library
REFRESH-INTERVAL;VALUE=DURATION:PT1H
X-Robots-Tag:noindex
X-PUBLISHED-TTL:PT1H
BEGIN:VTIMEZONE
TZID:America/Los_Angeles
BEGIN:DAYLIGHT
TZOFFSETFROM:-0800
TZOFFSETTO:-0700
TZNAME:PDT
DTSTART:20240310T100000
END:DAYLIGHT
BEGIN:STANDARD
TZOFFSETFROM:-0700
TZOFFSETTO:-0800
TZNAME:PST
DTSTART:20241103T090000
END:STANDARD
BEGIN:DAYLIGHT
TZOFFSETFROM:-0800
TZOFFSETTO:-0700
TZNAME:PDT
DTSTART:20250309T100000
END:DAYLIGHT
BEGIN:STANDARD
TZOFFSETFROM:-0700
TZOFFSETTO:-0800
TZNAME:PST
DTSTART:20251102T090000
END:STANDARD
BEGIN:DAYLIGHT
TZOFFSETFROM:-0800
TZOFFSETTO:-0700
TZNAME:PDT
DTSTART:20260308T100000
END:DAYLIGHT
BEGIN:STANDARD
TZOFFSETFROM:-0700
TZOFFSETTO:-0800
TZNAME:PST
DTSTART:20261101T090000
END:STANDARD
END:VTIMEZONE
BEGIN:VEVENT
DTSTART;VALUE=DATE:20250414
DTEND;VALUE=DATE:20250417
DTSTAMP:20260424T033934
CREATED:20240512T233259Z
LAST-MODIFIED:20240512T233259Z
UID:12188-1744588800-1744847999@hustlerslibrary.com
SUMMARY:Experiential Marketing Summit
DESCRIPTION:🌟💼 Hustler’s Library Insider: Why You Should Attend Experiential Marketing Summit – Las Vegas 💼🌟 \nGet ready to redefine the future of event marketing at the Experiential Marketing Summit (EMS)\, the essential three-day gathering for corporate event and trade show marketers. From April 14th to 16th\, the Grand MGM sets the stage for a dynamic exchange of ideas and strategies that will shape the next era of experiential marketing. \nNetworking Opportunities Await at Experiential Marketing Summit – Las Vegas 🤝:  Connect and commiserate with your industry peers in our Hall of Ideas\, a vibrant space designed for networking and collaboration. At EMS\, meet new partners and forge relationships that will empower your projects and enhance your career trajectory. \nKnowledge is Power 🧠:  Hear from leading brand-side event executives who are at the forefront of experiential marketing. EMS offers an exclusive platform to engage in the ultimate three-day conversation on the latest trends\, challenges\, and innovations driving the industry forward. \nExhibits for Days 🌟: Discover a wealth of solutions and ideas within the Hall of Ideas. This specially curated exhibit area showcases the best tools\, technologies\, and services available to support your experiential marketing needs\, helping you stay ahead of the curve. \nLegendary Keynote Speakers 🎤: Learn from the best in the business as top executives and innovative thinkers take the stage to share their insights and strategies. If it’s a hot topic in experiential marketing\, our speakers are not just discussing it—they’re leading the conversation. \nThe Cost to Attend 💵: EMS is an investment in your professional growth\, offering various attendance packages to suit different needs and budgets. Detailed information about registration fees and benefits will be provided\, ensuring you can make the most informed decision for your attendance. \n \nFinal Verdict 🏆: If you’re involved in experiential marketing\, EMS is the place to be. Positioned at the cutting edge of industry discussions\, this summit promises to equip you with the insights and connections needed to thrive in the fast-evolving world of event marketing. Only at EMS will you find such a concentrated and comprehensive exploration of what’s next in experiential marketing. \n\n 
URL:https://hustlerslibrary.com/event/experiential-marketing-summit/
LOCATION:MGM Grand\, 3799 S Las Vegas Blvd\, Las Vegas\, NV\, 89109\, United States
CATEGORIES:Las Vegas Nevada
ATTACH;FMTTYPE=image/webp:https://hustlerslibrary.com/wp-content/uploads/2024/05/experiential-marketing-summit.webp
END:VEVENT
END:VCALENDAR