BEGIN:VCALENDAR
VERSION:2.0
PRODID:-//Hustler&#039;s Library - ECPv6.15.20//NONSGML v1.0//EN
CALSCALE:GREGORIAN
METHOD:PUBLISH
X-ORIGINAL-URL:https://hustlerslibrary.com
X-WR-CALDESC:Events for Hustler&#039;s Library
REFRESH-INTERVAL;VALUE=DURATION:PT1H
X-Robots-Tag:noindex
X-PUBLISHED-TTL:PT1H
BEGIN:VTIMEZONE
TZID:America/Los_Angeles
BEGIN:DAYLIGHT
TZOFFSETFROM:-0800
TZOFFSETTO:-0700
TZNAME:PDT
DTSTART:20240310T100000
END:DAYLIGHT
BEGIN:STANDARD
TZOFFSETFROM:-0700
TZOFFSETTO:-0800
TZNAME:PST
DTSTART:20241103T090000
END:STANDARD
BEGIN:DAYLIGHT
TZOFFSETFROM:-0800
TZOFFSETTO:-0700
TZNAME:PDT
DTSTART:20250309T100000
END:DAYLIGHT
BEGIN:STANDARD
TZOFFSETFROM:-0700
TZOFFSETTO:-0800
TZNAME:PST
DTSTART:20251102T090000
END:STANDARD
BEGIN:DAYLIGHT
TZOFFSETFROM:-0800
TZOFFSETTO:-0700
TZNAME:PDT
DTSTART:20260308T100000
END:DAYLIGHT
BEGIN:STANDARD
TZOFFSETFROM:-0700
TZOFFSETTO:-0800
TZNAME:PST
DTSTART:20261101T090000
END:STANDARD
END:VTIMEZONE
BEGIN:VEVENT
DTSTART;VALUE=DATE:20250107
DTEND;VALUE=DATE:20250111
DTSTAMP:20260424T074547
CREATED:20240725T183808Z
LAST-MODIFIED:20240725T183942Z
UID:13370-1736208000-1736553599@hustlerslibrary.com
SUMMARY:CES (consumer electronics show)
DESCRIPTION:Hustler’s Library Preview: CES 2024 \nGet ready\, tech enthusiasts and innovators\, because CES 2024 is just around the corner! Join us from Tuesday\, January 9th to Friday\, January 12th\, 2024\, at the Las Vegas Convention Center\, where the latest and greatest in consumer technology will be unveiled. \nNetworking Opportunities:  CES is the ultimate platform for networking with industry leaders\, innovators\, and fellow tech enthusiasts. Last year’s event attracted over 180\,000 attendees from around the globe\, making it the perfect place to forge new connections\, explore potential partnerships\, and exchange ideas with the best in the business. \nKnowledge is Power: Prepare to be enlightened by a diverse array of workshops\, seminars\, and panel discussions. These sessions are crafted to provide you with the insights and strategies needed to navigate the rapidly evolving tech landscape. Previous attendees have highly valued the practical knowledge and forward-thinking perspectives shared by leading experts. \nExhibits for Days: Explore a vast exhibitor hall featuring over 4\,500 companies showcasing cutting-edge products and technologies. From startups to established tech giants\, you’ll find innovations that are set to revolutionize industries and improve everyday life. Whether you’re looking for the latest gadgets\, smart home devices\, or advancements in AI and robotics\, CES has it all. \nInspirational Keynote Speakers: Be inspired by keynote speakers who are shaping the future of technology. These industry visionaries will share their insights\, experiences\, and predictions\, providing you with a glimpse into what’s next in tech. Past speakers have included luminaries such as Satya Nadella\, CEO of Microsoft\, and Lisa Su\, CEO of AMD\, who have left audiences excited and ready to embrace the future. \nAttendance Details: CES 2024 offers a range of passes and registration options to suit your needs. Detailed information on pass types\, costs\, and benefits is available on the official CES website. Don’t miss this opportunity to be part of the world’s premier tech event. \n\n\nFinal Thoughts: CES 2024 is more than just a showcase of consumer electronics; it’s a global stage for innovation\, inspiration\, and collaboration. Mark your calendars\, prepare your agendas\, and get ready to join us in Las Vegas for an unforgettable experience that will shape the future of technology. We look forward to seeing you there! \n  \n 
URL:https://hustlerslibrary.com/event/ces-consumer-electronics-show/
LOCATION:Las Vegas Convention Center\, South Hall\, 3150 Paradise Rd\, Las Vegas\, NV\, 89109\, United States
CATEGORIES:Las Vegas Nevada
ATTACH;FMTTYPE=image/webp:https://hustlerslibrary.com/wp-content/uploads/2024/07/ces-2023-3381.webp
END:VEVENT
END:VCALENDAR