BEGIN:VCALENDAR
VERSION:2.0
PRODID:-//Hustler&#039;s Library - ECPv6.15.20//NONSGML v1.0//EN
CALSCALE:GREGORIAN
METHOD:PUBLISH
X-WR-CALNAME:Hustler&#039;s Library
X-ORIGINAL-URL:https://hustlerslibrary.com
X-WR-CALDESC:Events for Hustler&#039;s Library
REFRESH-INTERVAL;VALUE=DURATION:PT1H
X-Robots-Tag:noindex
X-PUBLISHED-TTL:PT1H
BEGIN:VTIMEZONE
TZID:America/Los_Angeles
BEGIN:DAYLIGHT
TZOFFSETFROM:-0800
TZOFFSETTO:-0700
TZNAME:PDT
DTSTART:20230312T100000
END:DAYLIGHT
BEGIN:STANDARD
TZOFFSETFROM:-0700
TZOFFSETTO:-0800
TZNAME:PST
DTSTART:20231105T090000
END:STANDARD
BEGIN:DAYLIGHT
TZOFFSETFROM:-0800
TZOFFSETTO:-0700
TZNAME:PDT
DTSTART:20240310T100000
END:DAYLIGHT
BEGIN:STANDARD
TZOFFSETFROM:-0700
TZOFFSETTO:-0800
TZNAME:PST
DTSTART:20241103T090000
END:STANDARD
BEGIN:DAYLIGHT
TZOFFSETFROM:-0800
TZOFFSETTO:-0700
TZNAME:PDT
DTSTART:20250309T100000
END:DAYLIGHT
BEGIN:STANDARD
TZOFFSETFROM:-0700
TZOFFSETTO:-0800
TZNAME:PST
DTSTART:20251102T090000
END:STANDARD
END:VTIMEZONE
BEGIN:VEVENT
DTSTART;VALUE=DATE:20241021
DTEND;VALUE=DATE:20241031
DTSTAMP:20260424T114018
CREATED:20240805T121509Z
LAST-MODIFIED:20240805T121509Z
UID:14241-1729468800-1730332799@hustlerslibrary.com
SUMMARY:BizX 2024 - Las Vegas
DESCRIPTION:Hustler’s Library Preview BizX 2024: Attention business leaders and entrepreneurs! BizX 2024 is just around the corner\, and it’s an event you don’t want to miss. Join us from Monday\, October 21st to Wednesday\, October 30th\, 2024\, at the Las Vegas Convention Center in Las Vegas\, Nevada\, for an unparalleled experience in business excellence and innovation. \nNetworking Opportunities: BizX is the ultimate event for networking with fellow entrepreneurs\, business owners\, and industry leaders. With thousands of attendees\, this event offers ample opportunities to build valuable connections\, exchange ideas\, and explore potential collaborations. Engage with professionals who are as dedicated to business growth and innovation as you are. \nKnowledge is Power: Enhance your business strategies with a diverse lineup of workshops\, sessions\, and panel discussions. Learn from top experts and thought leaders who will share the latest trends\, tools\, and techniques in business development. Whether you’re looking to improve your operations\, refine your marketing strategies\, or enhance your leadership skills\, these sessions provide practical insights and actionable takeaways. \nExhibits for Days: Discover the latest in business tools and technologies in the exhibitor hall. From innovative software solutions to advanced marketing platforms\, explore a wide range of products and services designed to help you optimize your business operations. This is your chance to find new resources that can elevate your business to the next level. \nInspirational Keynote Speakers: Be inspired by an exceptional lineup of keynote speakers who are at the forefront of business and innovation. These industry leaders will share their experiences\, insights\, and forward-looking perspectives\, equipping you with the knowledge to drive your business forward. Past speakers have included influential figures such as Tony Robbins\, renowned life and business strategist\, and Simon Sinek\, best-selling author and motivational speaker\, who have provided audiences with profound\, actionable takeaways. \nAttendance Details: BizX 2024 offers various passes and registration options to accommodate your needs. Detailed information on pass types\, costs\, and benefits can be found on the official BizX website. Secure your spot to ensure you don’t miss this invaluable opportunity for professional growth and advancement. \n  \n \n  \nFinal Thoughts: BizX 2024 is more than just a conference—it is a critical convergence of innovation\, expertise\, and strategic insights in business development. Mark your calendars\, prepare your schedules\, and join us in Las Vegas for an authoritative and informative event that will refine and elevate your business strategies. We look forward to your participation! \n 
URL:https://hustlerslibrary.com/event/bizx-2024-las-vegas/
LOCATION:Planet Hollywood Las Vegas Resort & Casino\, 3667 Las Vegas Blvd S\, Las Vegas\, NV\, 89109\, United States
CATEGORIES:Las Vegas Nevada
ATTACH;FMTTYPE=image/png:https://hustlerslibrary.com/wp-content/uploads/2024/08/images-2.png
END:VEVENT
END:VCALENDAR