BEGIN:VCALENDAR
VERSION:2.0
PRODID:-//Hustler&#039;s Library - ECPv6.15.20//NONSGML v1.0//EN
CALSCALE:GREGORIAN
METHOD:PUBLISH
X-ORIGINAL-URL:https://hustlerslibrary.com
X-WR-CALDESC:Events for Hustler&#039;s Library
REFRESH-INTERVAL;VALUE=DURATION:PT1H
X-Robots-Tag:noindex
X-PUBLISHED-TTL:PT1H
BEGIN:VTIMEZONE
TZID:America/Los_Angeles
BEGIN:DAYLIGHT
TZOFFSETFROM:-0800
TZOFFSETTO:-0700
TZNAME:PDT
DTSTART:20230312T100000
END:DAYLIGHT
BEGIN:STANDARD
TZOFFSETFROM:-0700
TZOFFSETTO:-0800
TZNAME:PST
DTSTART:20231105T090000
END:STANDARD
BEGIN:DAYLIGHT
TZOFFSETFROM:-0800
TZOFFSETTO:-0700
TZNAME:PDT
DTSTART:20240310T100000
END:DAYLIGHT
BEGIN:STANDARD
TZOFFSETFROM:-0700
TZOFFSETTO:-0800
TZNAME:PST
DTSTART:20241103T090000
END:STANDARD
BEGIN:DAYLIGHT
TZOFFSETFROM:-0800
TZOFFSETTO:-0700
TZNAME:PDT
DTSTART:20250309T100000
END:DAYLIGHT
BEGIN:STANDARD
TZOFFSETFROM:-0700
TZOFFSETTO:-0800
TZNAME:PST
DTSTART:20251102T090000
END:STANDARD
END:VTIMEZONE
BEGIN:VEVENT
DTSTART;VALUE=DATE:20241015
DTEND;VALUE=DATE:20241025
DTSTAMP:20260424T114023
CREATED:20240725T191153Z
LAST-MODIFIED:20240801T171704Z
UID:13376-1728950400-1729814399@hustlerslibrary.com
SUMMARY:Techstar Startup - Las Vegas
DESCRIPTION:Hustler’s Library Preview: Las Vegas Techstar  Startup Week 2024: Attention all entrepreneurs and innovators! Las Vegas Startup Week 2024 is on the horizon\, and you won’t want to miss it. \nNetworking Opportunities: Las Vegas Techstar Startup Week is the perfect opportunity to expand your professional network. Meet like-minded entrepreneurs\, potential partners\, and investors from various industries. With hundreds of attendees expected\, this event is your chance to forge valuable connections and build lasting relationships. \nKnowledge is Power: Get ready to enhance your entrepreneurial skills with a lineup of informative workshops\, seminars\, and panel discussions. Learn from industry experts and thought leaders who will share their insights\, strategies\, and experiences. Whether you’re looking to scale your startup\, refine your business model\, or stay ahead of industry trends\, these sessions are designed to provide actionable takeaways. \nExhibits for Days: Discover innovative products and services that can propel your business forward. The exhibitor hall will feature a diverse array of startups and established companies showcasing cutting-edge technologies and solutions. This is your chance to explore new tools\, resources\, and partnerships that can help you overcome challenges and achieve your business goals. \nInspirational Keynote Speakers: Be inspired by our keynote speakers who are at the forefront of the entrepreneurial world. These visionaries will share their journeys\, successes\, and lessons learned\, igniting your passion and motivating you to reach new heights. Past speakers have included renowned entrepreneurs and industry leaders who have left audiences energized and ready to take on new challenges. \nAttendance Details: Las Vegas Techstar Startup Week offers a variety of passes and registration options to fit your needs. Detailed information on pass types\, costs\, and benefits can be found on the official Las Vegas Startup Week website. Don’t miss this opportunity to be part of an event that celebrates and supports the startup community. \n \n\nFinal Thoughts: Las Vegas Startup Week 2024 is more than just an event—it’s a celebration of innovation\, collaboration\, and entrepreneurship. Mark your calendars\, plan your trip\, and get ready to join us for a week of inspiration\, education\, and networking in one of the most vibrant cities in the world. We look forward to seeing you there! \n  \n  \n  \n\n  \n  \n\n  \n\n 
URL:https://hustlerslibrary.com/event/techstar-startup-las-vegas/
CATEGORIES:Las Vegas Nevada
ATTACH;FMTTYPE=image/jpeg:https://hustlerslibrary.com/wp-content/uploads/2024/07/Fvd7VfPaIAAibQp.jpeg
END:VEVENT
BEGIN:VEVENT
DTSTART;TZID=America/Los_Angeles:20241017T100000
DTEND;TZID=America/Los_Angeles:20241017T170000
DTSTAMP:20260424T114023
CREATED:20240510T195432Z
LAST-MODIFIED:20240510T210754Z
UID:11757-1729159200-1729184400@hustlerslibrary.com
SUMMARY:Small Business Expo - Las Vegas
DESCRIPTION:🚀 Hustler’s Library Preview: Las Vegas Small Business Expo 2024 🚀 \nHold onto your hats\, fellow hustlers\, because the countdown to the Las Vegas Small Business Expo 2024 has officially begun! Set your sights on Wednesday\, October 17th\, 2024\, as we gear up to take over the Plaza Hotel & Casino Convention Center in the heart of Sin City. \nNetworking Opportunities Await At the Small Business Expo: Get ready to expand your circle\, forge new connections\, and swap stories with fellow go-getters from around the globe. Last year\, over 1\,500 entrepreneurs and business owners came together at the Expo\, making it the ultimate hotspot for networking and collaboration. \nKnowledge is Power: Prepare to have your mind blown and your business game elevated with a lineup of workshops\, seminars\, and panels designed to arm you with the tools\, strategies\, and insights you need to thrive in today’s ever-evolving marketplace. Previous attendees have raved about the practical advice and actionable takeaways they’ve gained from industry experts and thought leaders. \nExhibits For Days: Need a game-changing product or service to take your business to the next level? Look no further than the Expo’s exhibitor hall\, where you’ll find a smorgasbord of innovative solutions\, cutting-edge technologies\, and forward-thinking vendors ready to help you tackle any challenge that comes your way. With over 100 exhibitors showcasing their offerings\, you’re bound to find exactly what you need to fuel your entrepreneurial journey. \nLegendary Keynote Speakers: Prepare to be inspired\, motivated\, and downright fired up by our lineup of keynote speakers\, who will take the stage to share their stories\, impart wisdom\, and ignite the entrepreneurial fire within us all. Past speakers have included industry heavyweights such as Sarah Blakeley\, founder of Spanx\, and Gary Vaynerchuk\, CEO of VaynerMedia\, leaving audiences buzzing with excitement and ready to take on the world. \nThe Cost To Attend: Small Business Expo – Las Vegas is offering multiple badges and sponsorship opportunities. See the outline below to view the badge costs and benefits! \n \nFinal Verdict: The Las Vegas Small Business Expo 2024 isn’t just an event—it’s a can’t-miss opportunity for hustlers\, dreamers\, and doers alike to come together\, connect\, and chart a course for success. So mark your calendars\, spread the word\, and get ready to join us for an unforgettable day of learning\, networking\, and inspiration. See you there!
URL:https://hustlerslibrary.com/event/small-business-expo-las-vegas/
LOCATION:Plaza Hotel & Casino Convention Center\, 1 N Main St\, Las Vegas\, NV\, 89101\, United States
CATEGORIES:Las Vegas Nevada
ATTACH;FMTTYPE=image/png:https://hustlerslibrary.com/wp-content/uploads/2024/05/Screen-Shot-2024-05-10-at-12.58.41-PM.png
END:VEVENT
END:VCALENDAR