BEGIN:VCALENDAR
VERSION:2.0
PRODID:-//Hustler&#039;s Library - ECPv6.15.20//NONSGML v1.0//EN
CALSCALE:GREGORIAN
METHOD:PUBLISH
X-WR-CALNAME:Hustler&#039;s Library
X-ORIGINAL-URL:https://hustlerslibrary.com
X-WR-CALDESC:Events for Hustler&#039;s Library
REFRESH-INTERVAL;VALUE=DURATION:PT1H
X-Robots-Tag:noindex
X-PUBLISHED-TTL:PT1H
BEGIN:VTIMEZONE
TZID:America/Chicago
BEGIN:DAYLIGHT
TZOFFSETFROM:-0600
TZOFFSETTO:-0500
TZNAME:CDT
DTSTART:20250309T080000
END:DAYLIGHT
BEGIN:STANDARD
TZOFFSETFROM:-0500
TZOFFSETTO:-0600
TZNAME:CST
DTSTART:20251102T070000
END:STANDARD
BEGIN:DAYLIGHT
TZOFFSETFROM:-0600
TZOFFSETTO:-0500
TZNAME:CDT
DTSTART:20260308T080000
END:DAYLIGHT
BEGIN:STANDARD
TZOFFSETFROM:-0500
TZOFFSETTO:-0600
TZNAME:CST
DTSTART:20261101T070000
END:STANDARD
BEGIN:DAYLIGHT
TZOFFSETFROM:-0600
TZOFFSETTO:-0500
TZNAME:CDT
DTSTART:20270314T080000
END:DAYLIGHT
BEGIN:STANDARD
TZOFFSETFROM:-0500
TZOFFSETTO:-0600
TZNAME:CST
DTSTART:20271107T070000
END:STANDARD
END:VTIMEZONE
BEGIN:VEVENT
DTSTART;VALUE=DATE:20261105
DTEND;VALUE=DATE:20261106
DTSTAMP:20260423T092457
CREATED:20260327T192843Z
LAST-MODIFIED:20260327T202148Z
UID:22879-1793836800-1793923199@hustlerslibrary.com
SUMMARY:Small Business Expo – Houston 2026
DESCRIPTION:Official Hustler’s Library Review\nEstimated Date: November 5\, 2026 (dates subject to confirmation)\nLocation: Houston\, TX \nThe Small Business Expo Houston operates in one of the most dynamic entrepreneurial ecosystems in the United States. Houston is not just an energy city. It is a diversified commercial hub spanning energy technology\, healthcare systems\, aerospace\, logistics\, international trade\, real estate\, and a rapidly growing technology sector that benefits from the city’s combination of low cost of business and access to capital that the coastal markets cannot match on the same terms. \nWhen the Small Business Expo arrives at the George R. Brown Convention Center\, it taps into a business community that is entrepreneurially oriented\, operationally focused\, and deeply networked through the city’s industry associations and chambers of commerce. The result is one of the most practically useful stops on the national expo circuit. \nNote: 2026 dates are estimated based on historical scheduling. Confirm at thesmallbusinessexpo.com. \nWhy It Matters\nHouston’s business culture is direct and deal-oriented. The city has produced an extraordinary number of successful entrepreneurs across energy services\, healthcare staffing\, construction\, logistics\, and professional services. These are operators who think about revenue and margin first\, not narrative. The Small Business Expo Houston reflects that culture. Conversations on this floor get to the point faster than in most markets. \nThe energy sector’s influence also creates a specific type of SMB owner in Houston: service businesses built around the energy industry’s operational needs\, technology companies serving oilfield and energy infrastructure clients\, and professional services firms managing the compliance and financial complexity of a capital-intensive sector. Vendors and partners with solutions relevant to these business types find Houston particularly receptive. \nHouston’s international trade orientation adds another dimension. The Port of Houston is one of the largest in the country\, and the city’s international business community is substantial. Small businesses engaged in import\, export\, and cross-border trade are a meaningful presence at this expo that you will not find at comparable volume anywhere else on the circuit. \nWhat’s Happening\nFull Small Business Expo format across exhibition floor\, workshop stage\, and speed networking. Houston-specific workshops tend to address energy sector business development\, international trade and logistics for small businesses\, commercial real estate strategy\, and healthcare and professional services growth. The exhibition floor brings together technology vendors\, financial services providers\, staffing companies\, and operational service providers all targeting the Houston SMB market. \nWho’s There\nSmall and medium-sized business owners from across the Houston metro and greater Texas region. Energy services contractors and technology providers. Healthcare services operators and medical practice owners. Construction and real estate operators. Logistics and transportation business owners. International trade professionals. Professional services firms. Regional investors and commercial banking representatives. \nIndustries in Play\nEnergy services and technology\, healthcare and medical services\, construction and real estate\, logistics and transportation\, professional services\, international trade\, retail\, food and hospitality\, financial services\, and technology services. The energy sector’s gravitational pull on Houston’s economy ensures its outsized representation\, but the commercial diversity of the city produces genuine cross-sector breadth. \nWho Benefits Most\nTechnology and service vendors with solutions relevant to energy services\, healthcare\, and logistics businesses. Founders seeking traction in the Texas market\, which rewards directness and operational credibility above all other signals. Professional services providers building client bases in a market where relationship-driven business development remains the dominant model. Regional franchise operators and multi-location business owners evaluating expansion infrastructure. \nHustler’s Library Private Mixer\nHustler’s Library will host a private mixer in Houston during the Small Business Expo. The gathering is designed for growth-stage operators and business builders in the Texas market who want a curated networking environment focused on substance over spectacle. \nAttendance is limited. To request consideration and receive details\, contact Hustler’s Library directly. \nFinal Thoughts\nThe Small Business Expo Houston is a high-value\, low-pretension business event in a city that embodies both of those characteristics. The operators in this room are building real businesses in real markets with real revenue. The conversations are direct. The follow-up converts. For anyone building toward or within the Texas market\, this single day in November is worth the calendar commitment. \nSee the Hustler’s Library events calendar for the other Small Business Expo stops and key business events in 2026.
URL:https://hustlerslibrary.com/event/small-business-expo-houston-2026/
LOCATION:George R. Brown Convention Center\, 1001 Avenida De Las Americas\, Houston\, 77010\, United States
CATEGORIES:Houston
ATTACH;FMTTYPE=image/jpeg:https://hustlerslibrary.com/wp-content/uploads/2026/03/Small-Business-Expo-Business-Conference-Keynote.jpeg
END:VEVENT
END:VCALENDAR