BEGIN:VCALENDAR
VERSION:2.0
PRODID:-//Hustler&#039;s Library - ECPv6.15.20//NONSGML v1.0//EN
CALSCALE:GREGORIAN
METHOD:PUBLISH
X-ORIGINAL-URL:https://hustlerslibrary.com
X-WR-CALDESC:Events for Hustler&#039;s Library
REFRESH-INTERVAL;VALUE=DURATION:PT1H
X-Robots-Tag:noindex
X-PUBLISHED-TTL:PT1H
BEGIN:VTIMEZONE
TZID:America/Chicago
BEGIN:DAYLIGHT
TZOFFSETFROM:-0600
TZOFFSETTO:-0500
TZNAME:CDT
DTSTART:20250309T080000
END:DAYLIGHT
BEGIN:STANDARD
TZOFFSETFROM:-0500
TZOFFSETTO:-0600
TZNAME:CST
DTSTART:20251102T070000
END:STANDARD
BEGIN:DAYLIGHT
TZOFFSETFROM:-0600
TZOFFSETTO:-0500
TZNAME:CDT
DTSTART:20260308T080000
END:DAYLIGHT
BEGIN:STANDARD
TZOFFSETFROM:-0500
TZOFFSETTO:-0600
TZNAME:CST
DTSTART:20261101T070000
END:STANDARD
BEGIN:DAYLIGHT
TZOFFSETFROM:-0600
TZOFFSETTO:-0500
TZNAME:CDT
DTSTART:20270314T080000
END:DAYLIGHT
BEGIN:STANDARD
TZOFFSETFROM:-0500
TZOFFSETTO:-0600
TZNAME:CST
DTSTART:20271107T070000
END:STANDARD
END:VTIMEZONE
BEGIN:VEVENT
DTSTART;VALUE=DATE:20261112
DTEND;VALUE=DATE:20261113
DTSTAMP:20260420T033247
CREATED:20260327T193024Z
LAST-MODIFIED:20260327T201951Z
UID:22884-1794441600-1794527999@hustlerslibrary.com
SUMMARY:Small Business Expo – Dallas 2026
DESCRIPTION:Official Hustler’s Library Review\nEstimated Date: November 12\, 2026 (dates subject to confirmation)\nLocation: Dallas\, TX \nThe Small Business Expo Dallas is one of the most commercially dense single-day business events in the South and Southwest. Dallas sits at the intersection of finance\, technology\, healthcare\, real estate\, and corporate relocation trends that have made it one of the fastest-growing major business markets in the United States over the past decade. The Small Business Expo arriving in this city taps directly into an entrepreneurial community that is growing faster than its support infrastructure\, which means the demand for tools\, vendors\, and peer relationships is genuinely urgent. \nHustler’s Library pays close attention to the Dallas stop. The city has become a magnet for financial services headquarters\, corporate relocations from higher-cost markets\, and an emerging technology sector that is building on the talent base and cost advantages that California and New York can no longer offer. The business owners at this expo are operating at the edge of that growth wave. \nNote: 2026 dates are estimated based on historical scheduling. Confirm at thesmallbusinessexpo.com. \nWhy It Matters\nDallas is not playing catch-up to coastal business ecosystems. It is operating on its own terms with its own momentum. The corporate relocations of the past five years brought with them an influx of capital\, talent\, and entrepreneurial ambition that is accelerating an already active local business community. The SMB owners at this expo are navigating growth in a market that is simultaneously welcoming and competitive. \nThe financial services sector’s strong presence in Dallas creates a vendor and partner mix at this expo that is particularly strong in business banking\, commercial lending\, insurance\, and financial planning services. Real estate development and technology services also feature prominently. For vendors with solutions in these categories\, the Dallas stop of the Small Business Expo delivers some of the most qualified buyers on the national circuit. \nThe Texas business environment more broadly favors the kind of direct\, results-oriented conversation that makes single-day events like this one work. There is less social preamble in a Dallas business networking room than in comparable environments in coastal cities. That directness accelerates the useful parts of the day. \nWhat’s Happening\nFull Small Business Expo format: exhibition floor\, workshop stage programming\, and speed networking sessions. Dallas-specific content tends to address real estate investment and development\, financial services for growing businesses\, technology adoption for SMBs navigating digital transformation\, and talent acquisition and retention in a competitive Texas labor market. The exhibition floor reflects the city’s commercial priorities with strong representation from financial services\, real estate technology\, staffing\, and business operations vendors. \nWho’s There\nSmall and medium-sized business owners from the Dallas-Fort Worth metroplex and broader North Texas region. Financial services professionals and commercial banking representatives. Real estate developers and property investment operators. Technology company founders and software vendors. Healthcare and professional services practitioners. Corporate relocation-driven entrepreneurs who moved to Texas in recent years. Regional franchise operators and expansion-stage business owners. \nIndustries in Play\nFinancial services\, real estate\, technology services\, healthcare\, professional services\, retail\, food and hospitality\, construction\, logistics\, and franchise development. Dallas’s role as a corporate and financial hub shapes the sector weighting\, with financial services and real estate more prominent here than at most other Small Business Expo stops. \nWho Benefits Most\nVendors and service providers targeting the Texas SMB market who need direct\, in-person access to qualified buyers. Founders in the Dallas-Fort Worth area seeking peer relationships and operational support infrastructure. Technology companies building distribution in the South and Southwest markets. Financial services providers seeking SMB clients in a market with strong demand for growth-oriented banking and lending products. \nHustler’s Library Private Mixer\nHustler’s Library will host a private mixer in Dallas during the Small Business Expo. The gathering is designed for growth-stage operators\, investors\, and founders in the Texas market who want a focused networking environment built for substantive conversation. \nAttendance is limited. To request consideration and receive details\, contact Hustler’s Library directly. \nFinal Thoughts\nThe Small Business Expo Dallas is a high-efficiency business event in a high-momentum market. Dallas is one of the best business cities in the United States right now\, and the operators building within it are doing it with urgency and focus. One day at this expo in November\, navigated with preparation and clear objectives\, delivers return that compounds through the following year. \nPair it with the Houston stop the week before for a Texas double-header that covers the state’s two largest business markets in a single two-week window. See the full Hustler’s Library events calendar for other key dates in 2026.
URL:https://hustlerslibrary.com/event/small-business-expo-dallas-2026/
LOCATION:Kay Bailey Hutchison Convention Center\, 650 S Griffin St\, Dallas\, 75202\, United States
CATEGORIES:Dallas
ATTACH;FMTTYPE=image/jpeg:https://hustlerslibrary.com/wp-content/uploads/2026/03/expo-17-min-scaled-1.jpeg
END:VEVENT
END:VCALENDAR