BEGIN:VCALENDAR
VERSION:2.0
PRODID:-//Hustler&#039;s Library - ECPv6.15.20//NONSGML v1.0//EN
CALSCALE:GREGORIAN
METHOD:PUBLISH
X-ORIGINAL-URL:https://hustlerslibrary.com
X-WR-CALDESC:Events for Hustler&#039;s Library
REFRESH-INTERVAL;VALUE=DURATION:PT1H
X-Robots-Tag:noindex
X-PUBLISHED-TTL:PT1H
BEGIN:VTIMEZONE
TZID:America/Los_Angeles
BEGIN:DAYLIGHT
TZOFFSETFROM:-0800
TZOFFSETTO:-0700
TZNAME:PDT
DTSTART:20230312T100000
END:DAYLIGHT
BEGIN:STANDARD
TZOFFSETFROM:-0700
TZOFFSETTO:-0800
TZNAME:PST
DTSTART:20231105T090000
END:STANDARD
BEGIN:DAYLIGHT
TZOFFSETFROM:-0800
TZOFFSETTO:-0700
TZNAME:PDT
DTSTART:20240310T100000
END:DAYLIGHT
BEGIN:STANDARD
TZOFFSETFROM:-0700
TZOFFSETTO:-0800
TZNAME:PST
DTSTART:20241103T090000
END:STANDARD
BEGIN:DAYLIGHT
TZOFFSETFROM:-0800
TZOFFSETTO:-0700
TZNAME:PDT
DTSTART:20250309T100000
END:DAYLIGHT
BEGIN:STANDARD
TZOFFSETFROM:-0700
TZOFFSETTO:-0800
TZNAME:PST
DTSTART:20251102T090000
END:STANDARD
END:VTIMEZONE
BEGIN:VEVENT
DTSTART;VALUE=DATE:20240606
DTEND;VALUE=DATE:20240608
DTSTAMP:20260420T064621
CREATED:20240510T235546Z
LAST-MODIFIED:20240511T000925Z
UID:11778-1717632000-1717804799@hustlerslibrary.com
SUMMARY:EXIM Annual Conference 2024
DESCRIPTION:⛵💰 Hustler’s Library Preview: EXIM Annual Conference 2024 💰⛵ \nGet ready to dive headfirst into the dynamic world of global trade at the Export-Import Bank of the United States (EXIM) 2024 Annual Conference\, kicking off on Thursday\, June 6\, 2024\, at the prestigious Washington Hilton. Over two power-packed days\, this in-person extravaganza will bring together titans of industry\, finance\, government\, and media to celebrate the vital role EXIM plays in fueling trade and fostering American prosperity. \nA Gathering of Titans: Brace yourselves for a summit of epic proportions as leaders from across sectors converge to share insights\, forge partnerships\, and chart the course for the future of exports. With heavyweights like Barbara Humpton of Siemens Corporation\, Kyle Clark of Beta Technologies\, and Grace Stanke\, Miss America 2023 turned Nuclear Fuels Engineer\, taking the stage\, you can bet your bottom dollar that sparks will fly and minds will be blown. \n \nTheme: “Honoring Legacy\, Charting Tomorrow”: This year’s theme isn’t just a catchy slogan—it’s a call to arms for pioneers and visionaries alike to honor the past while blazing a trail toward a brighter future. From clean energy to critical minerals\, American competitiveness to Make More in America initiatives\, the agenda is packed with discussions that are as forward-thinking as they are thought-provoking. \nNetworking Opportunities Await At the EXIM Annual Conference 2024: But wait\, there’s more! This ain’t your average snooze-fest of a conference—it’s a deal-making bonanza where connections are forged\, alliances are sealed\, and business dreams come to life. Rub elbows with government officials\, industry insiders\, and fellow entrepreneurs as you navigate the bustling corridors of opportunity that await at EXIM 2024. \nSocial Media Buzz: Can’t make it to D.C. in person? Fear not! Follow the action on social media under #EXIM24 and stay plugged into the pulse of the conference from anywhere in the world. Whether you’re tweeting\, posting\, or on the gram\, join the conversation and be a part of the global dialogue on the future of trade and economic prosperity. \nThe Cost To Attend: EXIM Annual Conference 2024 has various pricing tiers for different sized businesses\, groups and government representatives. Large Businesses will be charged $1\,200\, Small Businesses will be charged $575\, Embassy’s and Foreign Governments will be charged $575\, U.S. Federal\, State\, or Local Government representatives will be charged $400 and Group Tables will be sold for $10\,200. \n  \n \n  \nFinal Verdict: The EXIM Annual Conference 2024 isn’t just an event—it’s a rallying cry for American innovation\, ingenuity\, and enterprise. So lace up your networking shoes\, charge your devices\, and get ready to make your mark on the global stage. The world is watching\, and the time to seize the moment is now.
URL:https://hustlerslibrary.com/event/exim-annual-conference-2024/
LOCATION:Washington Hilton\, 1919 Connecticut Ave NW\, Washington\, DC\, 20009\, United States
CATEGORIES:D.C.
ATTACH;FMTTYPE=image/jpeg:https://hustlerslibrary.com/wp-content/uploads/2024/05/2023_EXIM_HFYP-Aquatech_v01-thumb-1.jpg
END:VEVENT
END:VCALENDAR